BEGIN:VCALENDAR
VERSION:2.0
PRODID:-//Columbia Street Taproom - ECPv6.15.20//NONSGML v1.0//EN
CALSCALE:GREGORIAN
METHOD:PUBLISH
X-WR-CALNAME:Columbia Street Taproom
X-ORIGINAL-URL:https://columbiastreettaproom.com
X-WR-CALDESC:Events for Columbia Street Taproom
REFRESH-INTERVAL;VALUE=DURATION:PT1H
X-Robots-Tag:noindex
X-PUBLISHED-TTL:PT1H
BEGIN:VTIMEZONE
TZID:UTC
BEGIN:STANDARD
TZOFFSETFROM:+0000
TZOFFSETTO:+0000
TZNAME:UTC
DTSTART:20250101T000000
END:STANDARD
END:VTIMEZONE
BEGIN:VEVENT
DTSTART;TZID=UTC:20260421T190000
DTEND;TZID=UTC:20260421T210000
DTSTAMP:20260421T005919
CREATED:20251023T193910Z
LAST-MODIFIED:20251121T193243Z
UID:10001046-1776798000-1776805200@columbiastreettaproom.com
SUMMARY:Trivia Tuesdays!!
DESCRIPTION:
URL:https://columbiastreettaproom.com/event/trivia-tuesdays-2-2-2/2026-04-21/
ATTACH;FMTTYPE=image/jpeg:https://columbiastreettaproom.com/wp-content/uploads/2020/09/trivia-chalkboard-scaled.jpg
END:VEVENT
BEGIN:VEVENT
DTSTART;TZID=UTC:20260422T180000
DTEND;TZID=UTC:20260422T200000
DTSTAMP:20260421T005919
CREATED:20260402T182402Z
LAST-MODIFIED:20260402T182402Z
UID:10001474-1776880800-1776888000@columbiastreettaproom.com
SUMMARY:Pint Night featuring Abita Brewing
DESCRIPTION:
URL:https://columbiastreettaproom.com/event/pint-night-featuring-abita-brewing/
ATTACH;FMTTYPE=image/png:https://columbiastreettaproom.com/wp-content/uploads/2026/04/abita-logo.png
END:VEVENT
BEGIN:VEVENT
DTSTART;TZID=UTC:20260422T190000
DTEND;TZID=UTC:20260422T210000
DTSTAMP:20260421T005919
CREATED:20260402T173727Z
LAST-MODIFIED:20260402T173727Z
UID:10001469-1776884400-1776891600@columbiastreettaproom.com
SUMMARY:Rick Samson
DESCRIPTION:
URL:https://columbiastreettaproom.com/event/rick-samson-3/
ATTACH;FMTTYPE=image/jpeg:https://columbiastreettaproom.com/wp-content/uploads/2021/01/rick-samson.jpg
END:VEVENT
BEGIN:VEVENT
DTSTART;TZID=UTC:20260423T170000
DTEND;TZID=UTC:20260423T210000
DTSTAMP:20260421T005919
CREATED:20260108T220051Z
LAST-MODIFIED:20260108T220051Z
UID:10001170-1776963600-1776978000@columbiastreettaproom.com
SUMMARY:Steak Night 5-9pm
DESCRIPTION:$25 10oz Ribeye and Loaded Mashed Potatoes \nDINE IN ONLY
URL:https://columbiastreettaproom.com/event/steak-night-5-9pm/2026-04-23/
END:VEVENT
BEGIN:VEVENT
DTSTART;TZID=UTC:20260423T193000
DTEND;TZID=UTC:20260423T223000
DTSTAMP:20260421T005919
CREATED:20260130T213441Z
LAST-MODIFIED:20260130T213803Z
UID:10001439-1776972600-1776983400@columbiastreettaproom.com
SUMMARY:Live Band Karaoke
DESCRIPTION:
URL:https://columbiastreettaproom.com/event/live-band-karaoke-2-2/2026-04-23/
ATTACH;FMTTYPE=image/jpeg:https://columbiastreettaproom.com/wp-content/uploads/2024/08/live-band-karaoke.jpg
END:VEVENT
BEGIN:VEVENT
DTSTART;TZID=UTC:20260424T180000
DTEND;TZID=UTC:20260424T210000
DTSTAMP:20260421T005919
CREATED:20260408T181935Z
LAST-MODIFIED:20260408T184429Z
UID:10001478-1777053600-1777064400@columbiastreettaproom.com
SUMMARY:Block Party
DESCRIPTION:
URL:https://columbiastreettaproom.com/event/block-party-3/2026-04-24/
ATTACH;FMTTYPE=image/jpeg:https://columbiastreettaproom.com/wp-content/uploads/2021/06/block-party.jpg
END:VEVENT
BEGIN:VEVENT
DTSTART;TZID=UTC:20260424T203000
DTEND;TZID=UTC:20260424T233000
DTSTAMP:20260421T005919
CREATED:20260408T181756Z
LAST-MODIFIED:20260408T181804Z
UID:10001476-1777062600-1777073400@columbiastreettaproom.com
SUMMARY:Four Unplugged
DESCRIPTION:
URL:https://columbiastreettaproom.com/event/four-unplugged/
ATTACH;FMTTYPE=image/jpeg:https://columbiastreettaproom.com/wp-content/uploads/2021/06/4-Unplugged-1.jpg
END:VEVENT
BEGIN:VEVENT
DTSTART;TZID=UTC:20260428T170000
DTEND;TZID=UTC:20260428T210000
DTSTAMP:20260421T005919
CREATED:20260408T181848Z
LAST-MODIFIED:20260408T181848Z
UID:10001477-1777395600-1777410000@columbiastreettaproom.com
SUMMARY:Seiler Closed for Private Event
DESCRIPTION:
URL:https://columbiastreettaproom.com/event/seiler-closed-for-private-event-3-2/
ATTACH;FMTTYPE=image/jpeg:https://columbiastreettaproom.com/wp-content/uploads/2026/01/closed-sign.jpg
END:VEVENT
BEGIN:VEVENT
DTSTART;TZID=UTC:20260428T190000
DTEND;TZID=UTC:20260428T210000
DTSTAMP:20260421T005919
CREATED:20251023T193910Z
LAST-MODIFIED:20251121T193243Z
UID:10001047-1777402800-1777410000@columbiastreettaproom.com
SUMMARY:Trivia Tuesdays!!
DESCRIPTION:
URL:https://columbiastreettaproom.com/event/trivia-tuesdays-2-2-2/2026-04-28/
ATTACH;FMTTYPE=image/jpeg:https://columbiastreettaproom.com/wp-content/uploads/2020/09/trivia-chalkboard-scaled.jpg
END:VEVENT
BEGIN:VEVENT
DTSTART;TZID=UTC:20260429T190000
DTEND;TZID=UTC:20260429T210000
DTSTAMP:20260421T005919
CREATED:20260402T173819Z
LAST-MODIFIED:20260402T173819Z
UID:10001470-1777489200-1777496400@columbiastreettaproom.com
SUMMARY:Shane Madere
DESCRIPTION:
URL:https://columbiastreettaproom.com/event/shane-madere-2/
ATTACH;FMTTYPE=image/jpeg:https://columbiastreettaproom.com/wp-content/uploads/2025/04/shane-madere.jpg
END:VEVENT
BEGIN:VEVENT
DTSTART;TZID=UTC:20260430T170000
DTEND;TZID=UTC:20260430T210000
DTSTAMP:20260421T005919
CREATED:20260108T220051Z
LAST-MODIFIED:20260108T220051Z
UID:10001171-1777568400-1777582800@columbiastreettaproom.com
SUMMARY:Steak Night 5-9pm
DESCRIPTION:$25 10oz Ribeye and Loaded Mashed Potatoes \nDINE IN ONLY
URL:https://columbiastreettaproom.com/event/steak-night-5-9pm/2026-04-30/
END:VEVENT
END:VCALENDAR